BEGIN:VCALENDAR
VERSION:2.0
PRODID:spatie/icalendar-generator
DESCRIPTION:Events from Piedmont Handgunners Association
X-WR-CALDESC:Events from Piedmont Handgunners Association
REFRESH-INTERVAL;VALUE=DURATION:PT1440M
X-PUBLISHED-TTL:PT1440M
BEGIN:VTIMEZONE
TZID:America/New_York
BEGIN:DAYLIGHT
DTSTART:20270314T020000Z
TZOFFSETFROM:-0500
TZOFFSETTO:-0400
END:DAYLIGHT
BEGIN:STANDARD
DTSTART:20271107T020000Z
TZOFFSETFROM:-0400
TZOFFSETTO:-0500
END:STANDARD
BEGIN:DAYLIGHT
DTSTART:20280312T020000Z
TZOFFSETFROM:-0500
TZOFFSETTO:-0400
END:DAYLIGHT
END:VTIMEZONE
BEGIN:VTIMEZONE
TZID:UTC
BEGIN:STANDARD
DTSTART:20250725T115629Z
TZOFFSETFROM:+0000
TZOFFSETTO:+0000
END:STANDARD
END:VTIMEZONE
BEGIN:VEVENT
UID:4511-36
DTSTAMP:20260421T115629Z
SUMMARY:Veterans Day
LOCATION:Piedmont Handgunners Association 10346 S North Carolina Hwy 150  L
 inwood NC 27299
ORGANIZER;CN=admin:MAILTO:deninlex@gmail.com
RRULE:FREQ=YEARLY;BYMONTH=11;BYDAY=11;COUNT=0
DTSTART;TZID=America/New_York;VALUE=DATE:20271111
DTEND;TZID=America/New_York;VALUE=DATE:20271112
X-ALT-DESC;FMTTYPE=TEXT/HTML:NATIONAL  VETERANS DAY
CATEGORIES:Holiday
URL;VALUE=URI:https://phademo2020.com/mc-events/veterans-day/?mc_id=4511
METHOD:PUBLISH
END:VEVENT
END:VCALENDAR